BEGIN:VCALENDAR
PRODID: -//CFLIB.ORG//iCalUS()//EN
VERSION:2.0
METHOD:REQUEST
BEGIN:VTIMEZONE
BEGIN:STANDARD
DTSTART:20061101T020000
RRULE:FREQ=YEARLY;INTERVAL=1;BYDAY=1SU;BYMONTH=11
TZOFFSETFROM:-0400
TZOFFSETTO:-0500
TZNAME:Standard Time
END:STANDARD
BEGIN:DAYLIGHT
DTSTART:20060301T020000
RRULE:FREQ=YEARLY;INTERVAL=1;BYDAY=2SU;BYMONTH=3
TZOFFSETFROM:-0500
TZOFFSETTO:-0400
TZNAME:Daylight Savings Time
END:DAYLIGHT
END:VTIMEZONE
BEGIN:VEVENT
UID:1551165729331.CFLIB.ORG
ORGANIZER;CN=:MAILTO:
DTSTAMP:20190226T182209
DTSTART;TZID=Eastern Time:20190227T180000
DTEND;TZID=Eastern Time:20190227T181500
SUMMARY:BAYVIEW REAL ESTATE - OFI/OPEN HOME - 5 Tribute Drive, PAKENHAM, 3810
LOCATION:5 Tribute Drive, PAKENHAM, 3810
DESCRIPTION:OFI/OPEN HOME - 5 Tribute Drive, PAKENHAM, 3810\n\nWednesday 6:00PM-6:15PM\n\nClick the link for full listing information: http://bayviewrealestate.com.au?/property/3330401
PRIORITY:1
TRANSP:OPAQUE
CLASS:PUBLIC
BEGIN:VALARM
TRIGGER:-PT30M
ACTION:DISPLAY
DESCRIPTION:Reminder
END:VALARM
END:VEVENT
END:VCALENDAR 