BEGIN:VCALENDAR
PRODID: -//CFLIB.ORG//iCalUS()//EN
VERSION:2.0
METHOD:REQUEST
BEGIN:VTIMEZONE
BEGIN:STANDARD
DTSTART:20061101T020000
RRULE:FREQ=YEARLY;INTERVAL=1;BYDAY=1SU;BYMONTH=11
TZOFFSETFROM:-0400
TZOFFSETTO:-0500
TZNAME:Standard Time
END:STANDARD
BEGIN:DAYLIGHT
DTSTART:20060301T020000
RRULE:FREQ=YEARLY;INTERVAL=1;BYDAY=2SU;BYMONTH=3
TZOFFSETFROM:-0500
TZOFFSETTO:-0400
TZNAME:Daylight Savings Time
END:DAYLIGHT
END:VTIMEZONE
BEGIN:VEVENT
UID:1551165747142.CFLIB.ORG
ORGANIZER;CN=:MAILTO:
DTSTAMP:20190226T182227
DTSTART;TZID=Eastern Time:20190302T124500
DTEND;TZID=Eastern Time:20190302T130000
SUMMARY:BAYVIEW REAL ESTATE - OFI/OPEN HOME - 2/70 Chute Street, MORDIALLOC, 3195
LOCATION:2/70 Chute Street, MORDIALLOC, 3195
DESCRIPTION:OFI/OPEN HOME - 2/70 Chute Street, MORDIALLOC, 3195\n\nSaturday 12:45PM-1:00PM\n\nClick the link for full listing information: http://bayviewrealestate.com.au?/property/3328981
PRIORITY:1
TRANSP:OPAQUE
CLASS:PUBLIC
BEGIN:VALARM
TRIGGER:-PT30M
ACTION:DISPLAY
DESCRIPTION:Reminder
END:VALARM
END:VEVENT
END:VCALENDAR 