BEGIN:VCALENDAR
PRODID: -//CFLIB.ORG//iCalUS()//EN
VERSION:2.0
METHOD:REQUEST
BEGIN:VTIMEZONE
BEGIN:STANDARD
DTSTART:20061101T020000
RRULE:FREQ=YEARLY;INTERVAL=1;BYDAY=1SU;BYMONTH=11
TZOFFSETFROM:-0400
TZOFFSETTO:-0500
TZNAME:Standard Time
END:STANDARD
BEGIN:DAYLIGHT
DTSTART:20060301T020000
RRULE:FREQ=YEARLY;INTERVAL=1;BYDAY=2SU;BYMONTH=3
TZOFFSETFROM:-0500
TZOFFSETTO:-0400
TZNAME:Daylight Savings Time
END:DAYLIGHT
END:VTIMEZONE
BEGIN:VEVENT
UID:1551165884095.CFLIB.ORG
ORGANIZER;CN=:MAILTO:
DTSTAMP:20190226T182444
DTSTART;TZID=Eastern Time:20190302T131500
DTEND;TZID=Eastern Time:20190302T133000
SUMMARY:BAYVIEW REAL ESTATE - OFI/OPEN HOME - 109/90 White Street, MORDIALLOC, 3195
LOCATION:109/90 White Street, MORDIALLOC, 3195
DESCRIPTION:OFI/OPEN HOME - 109/90 White Street, MORDIALLOC, 3195\n\nSaturday 1:15PM-1:30PM\n\nClick the link for full listing information: http://bayviewrealestate.com.au?/property/3326060
PRIORITY:1
TRANSP:OPAQUE
CLASS:PUBLIC
BEGIN:VALARM
TRIGGER:-PT30M
ACTION:DISPLAY
DESCRIPTION:Reminder
END:VALARM
END:VEVENT
END:VCALENDAR 